BEGIN:VCALENDAR
VERSION:2.0
PRODID:-//RIGHTHERE//CALENDARIZE IT V3.2//EN
BEGIN:VEVENT
UID:1899-events@www.de-kool.nl
DTSTART;VALUE=DATE:20181104
DTEND;VALUE=DATE:20181104
DTSTAMP:20181031T193842Z
SUMMARY:Karpervijver 5 bezet
URL:https://www.de-kool.nl/events/karpervijver-5-bezet-23/
END:VEVENT
END:VCALENDAR