BEGIN:VCALENDAR
VERSION:2.0
PRODID:-//RIGHTHERE//CALENDARIZE IT V3.2//EN
BEGIN:VEVENT
UID:1988-events@www.de-kool.nl
DTSTART;VALUE=DATE:20190714
DTEND;VALUE=DATE:20190714
DTSTAMP:20190201T090353Z
SUMMARY:Karpervijver 5 bezet
URL:https://www.de-kool.nl/events/karpervijver-5-bezet-45/
END:VEVENT
END:VCALENDAR