BEGIN:VCALENDAR
VERSION:2.0
PRODID:-//RIGHTHERE//CALENDARIZE IT V3.2//EN
BEGIN:VEVENT
UID:2568-events@www.de-kool.nl
DTSTART;VALUE=DATE:20200704
DTEND;VALUE=DATE:20200704
DTSTAMP:20200702T111544Z
SUMMARY:Vliegvisvijver bezet
URL:https://www.de-kool.nl/events/vliegvisvijver-vanaf-4-juli-gesloten/
END:VEVENT
END:VCALENDAR