BEGIN:VCALENDAR
VERSION:2.0
PRODID:-//RIGHTHERE//CALENDARIZE IT V3.2//EN
BEGIN:VEVENT
UID:3539-events@www.de-kool.nl
DTSTART;VALUE=DATE:20240824
DTEND;VALUE=DATE:20240824
DTSTAMP:20240119T105745Z
SUMMARY:Karpervijver 5 bezet
RDATE;VALUE=PERIOD:20240825T000000/20240825T000000
URL:https://www.de-kool.nl/events/karpervijver-5-bezet-210/
END:VEVENT
END:VCALENDAR